{
 "currentVersion": 10.91,
 "cimVersion": "2.9.0",
 "serviceDescription": "",
 "mapName": "BlankBasemap",
 "description": "",
 "copyrightText": "",
 "supportsDynamicLayers": true,
 "layers": [
  {
   "id": 0,
   "name": "City Boundary",
   "parentLayerId": -1,
   "defaultVisibility": true,
   "subLayerIds": null,
   "minScale": 0,
   "maxScale": 0,
   "type": "Feature Layer",
   "geometryType": "esriGeometryPolygon",
   "supportsDynamicLegends": true
  }
 ],
 "tables": [],
 "spatialReference": {
  "wkid": 103762,
  "latestWkid": 103762,
  "xyTolerance": 2.5600000023841865E-4,
  "zTolerance": 2.0E-5,
  "mTolerance": 2.0E-5,
  "falseX": -118697900,
  "falseY": -99033100,
  "xyUnits": 3048.0060960121928,
  "falseZ": -100000,
  "zUnits": 10000,
  "falseM": -100000,
  "mUnits": 10000
 },
 "singleFusedMapCache": true,
 "tileInfo": {
  "rows": 256,
  "cols": 256,
  "dpi": 96,
  "format": "MIXED",
  "compressionQuality": 75,
  "origin": {
   "x": -118697900,
   "y": 139362700
  },
  "spatialReference": {
   "wkt": "PROJCS[\"NAD_1983_HARN_Adj_MN_Ottertail_Feet\",GEOGCS[\"GCS_NAD_1983_HARN_Adj_MN_Ottertail\",DATUM[\"D_NAD_1983_HARN_Adj_MN_Ottertail\",SPHEROID[\"S_GRS_1980_Adj_MN_Ottertail\",6378525.621,298.2572221008827]],PRIMEM[\"Greenwich\",0.0],UNIT[\"Degree\",0.0174532925199433]],PROJECTION[\"Lambert_Conformal_Conic\"],PARAMETER[\"False_Easting\",500000.0],PARAMETER[\"False_Northing\",100000.0],PARAMETER[\"Central_Meridian\",-95.71666666666667],PARAMETER[\"Standard_Parallel_1\",46.18333333333333],PARAMETER[\"Standard_Parallel_2\",46.65],PARAMETER[\"Latitude_Of_Origin\",46.10638888888889],UNIT[\"Foot_US\",0.3048006096012192]],VERTCS[\"VCS Name = NAVD88 height - Geoid12B (ftUS)|Datum Name = North American Vertical\",VDATUM[\"North American Vertical Datum 1988\"],PARAMETER[\"Vertical_Shift\",0.0],PARAMETER[\"Direction\",1.0],UNIT[\"US survey foot\",0.3048006096012192]]",
   "xyTolerance": 0.003280833333333333,
   "zTolerance": 0.0032808333333333335,
   "mTolerance": 0.001,
   "falseX": -118697900,
   "falseY": -99033100,
   "xyUnits": 3.778254170057102E7,
   "falseZ": -100000,
   "zUnits": 3048.006096012192,
   "falseM": -100000,
   "mUnits": 10000
  },
  "lods": [
   {
    "level": 0,
    "resolution": 55,
    "scale": 63360
   },
   {
    "level": 1,
    "resolution": 27.5,
    "scale": 31680
   },
   {
    "level": 2,
    "resolution": 13.75,
    "scale": 15840
   },
   {
    "level": 3,
    "resolution": 6.875,
    "scale": 7920
   },
   {
    "level": 4,
    "resolution": 4.166666666666666,
    "scale": 4800
   },
   {
    "level": 5,
    "resolution": 3.125,
    "scale": 3600
   },
   {
    "level": 6,
    "resolution": 2.083333333333333,
    "scale": 2400
   },
   {
    "level": 7,
    "resolution": 1.5625,
    "scale": 1800
   },
   {
    "level": 8,
    "resolution": 1.0416666666666665,
    "scale": 1200
   },
   {
    "level": 9,
    "resolution": 0.5208333333333333,
    "scale": 600
   },
   {
    "level": 10,
    "resolution": 0.26041666666666663,
    "scale": 300
   }
  ]
 },
 "storageInfo": {
  "storageFormat": "esriMapCacheStorageModeCompactV2",
  "packetSize": 128
 },
 "initialExtent": {
  "xmin": 371688.0747216769,
  "ymin": 137384.71190885804,
  "xmax": 437521.6972934924,
  "ymax": 188678.0137058834,
  "spatialReference": {
   "wkid": 103762,
   "latestWkid": 103762,
   "xyTolerance": 2.5600000023841865E-4,
   "zTolerance": 2.0E-5,
   "mTolerance": 2.0E-5,
   "falseX": -118697900,
   "falseY": -99033100,
   "xyUnits": 3048.0060960121928,
   "falseZ": -100000,
   "zUnits": 10000,
   "falseM": -100000,
   "mUnits": 10000
  }
 },
 "fullExtent": {
  "xmin": 385649.93757392466,
  "ymin": 148461.7012898028,
  "xmax": 423532.6149852127,
  "ymax": 177598.18899694085,
  "spatialReference": {
   "wkid": 103762,
   "latestWkid": 103762,
   "xyTolerance": 2.5600000023841865E-4,
   "zTolerance": 2.0E-5,
   "mTolerance": 2.0E-5,
   "falseX": -118697900,
   "falseY": -99033100,
   "xyUnits": 3048.0060960121928,
   "falseZ": -100000,
   "zUnits": 10000,
   "falseM": -100000,
   "mUnits": 10000
  }
 },
 "datesInUnknownTimezone": false,
 "minScale": 63360,
 "maxScale": 300,
 "minLOD": 0,
 "maxLOD": 10,
 "units": "esriFeet",
 "supportedImageFormatTypes": "PNG32,PNG24,PNG,JPG,DIB,TIFF,EMF,PS,PDF,GIF,SVG,SVGZ,BMP",
 "documentInfo": {
  "Title": "Map",
  "Author": "",
  "Comments": "",
  "Subject": "",
  "Category": "",
  "AntialiasingMode": "Fast",
  "TextAntialiasingMode": "Force",
  "Version": "2.9.0",
  "Keywords": "basemap"
 },
 "supportsQueryDomains": true,
 "capabilities": "Map,Query,Data",
 "supportedQueryFormats": "JSON, geoJSON, PBF",
 "hasVersionedData": true,
 "exportTilesAllowed": false,
 "referenceScale": 0.0,
 "supportsDatumTransformation": true,
 "floorAwareMapProperties": {
  "defaultFloorFilterSettings": {
   "isEnabled": true
  }
 },
 "archivingInfo": {
  "supportsHistoricMoment": false
 },
 "supportsClipping": true,
 "supportsSpatialFilter": true,
 "supportsTimeRelation": true,
 "supportsQueryDataElements": true,
 "maxRecordCount": 2000,
 "maxImageHeight": 4096,
 "maxImageWidth": 4096,
 "supportedExtensions": "",
 "serviceItemId": "32123525f9814a21a9ca107302aaac16"
}
